BEGIN:VCALENDAR
VERSION:2.0
PRODID:-//Plone.org//NONSGML plone.app.event//EN
X-WR-TIMEZONE:Europe/Madrid
BEGIN:VEVENT
SUMMARY:Crèdit de síntesi de segon d'ESO: Un llibre és un món
DTSTART;TZID=Europe/Madrid;VALUE=DATE-TIME:20161021T201000
DTEND;TZID=Europe/Madrid;VALUE=DATE-TIME:20161021T201000
DTSTAMP;VALUE=DATE-TIME:20260421T123751Z
UID:9072a00e3adb4900beb42cb7bfaa0342@192.168.0.130:8080
CREATED;VALUE=DATE-TIME:20200325T131435Z
DESCRIPTION:Aquí trobareu les indicacions per fer el crèdit de síntesi 
 de segon d'ESO
LAST-MODIFIED;VALUE=DATE-TIME:20200325T131436Z
URL:https://elpuig.xeill.net/Members/acanal8/noticies/2015-2016/credit-de-
 sintesi-de-segon-deso-un-llibre-es-un-mon
END:VEVENT
BEGIN:VTIMEZONE
TZID:Europe/Madrid
X-LIC-LOCATION:Europe/Madrid
BEGIN:DAYLIGHT
DTSTART;VALUE=DATE-TIME:20160327T030000
TZNAME:CEST
TZOFFSETFROM:+0100
TZOFFSETTO:+0200
END:DAYLIGHT
END:VTIMEZONE
END:VCALENDAR
