BEGIN:VCALENDAR
VERSION:2.0
PRODID:-//Plone.org//NONSGML plone.app.event//EN
X-WR-TIMEZONE:Europe/Madrid
BEGIN:VEVENT
SUMMARY:Xerrada: orienta't en família
DTSTART;TZID=Europe/Madrid;VALUE=DATE-TIME:20200316T193000
DTEND;TZID=Europe/Madrid;VALUE=DATE-TIME:20200316T210000
DTSTAMP;VALUE=DATE-TIME:20260419T152726Z
UID:d42c1439aa554572b0cc4f84fefba3be@192.168.0.130:8080
CREATED;VALUE=DATE-TIME:20200325T132722Z
LAST-MODIFIED;VALUE=DATE-TIME:20200325T132722Z
URL:https://elpuig.xeill.net/Members/belumbelinda/noticies/2019-2020/xerra
 da-orientat-en-familia
END:VEVENT
BEGIN:VTIMEZONE
TZID:Europe/Madrid
X-LIC-LOCATION:Europe/Madrid
BEGIN:STANDARD
DTSTART;VALUE=DATE-TIME:20191027T020000
TZNAME:CET
TZOFFSETFROM:+0200
TZOFFSETTO:+0100
END:STANDARD
END:VTIMEZONE
END:VCALENDAR
