BEGIN:VCALENDAR
VERSION:2.0
PRODID:-//Plone.org//NONSGML plone.app.event//EN
X-WR-TIMEZONE:Europe/Madrid
BEGIN:VEVENT
SUMMARY:Club de lectura 2 (adults)
DTSTART;TZID=Europe/Madrid;VALUE=DATE-TIME:20130313T200000
DTEND;TZID=Europe/Madrid;VALUE=DATE-TIME:20130313T213000
DTSTAMP;VALUE=DATE-TIME:20260420T035054Z
UID:2901ee28f2f44f9c9282bd72faab6765@192.168.0.130:8080
ATTENDEE;CN="Lectors i persones interessades en aquest llibre.";ROLE=REQ-P
 ARTICIPANT:Lectors i persones interessades en aquest llibre.
CONTACT:Institut Puig Castellar\, 93 391 61 11\, fgallardo@iespuigcastella
 r.xeill.net
CREATED;VALUE=DATE-TIME:20200325T134031Z
DESCRIPTION:Segona sessió del club de lectura 2 (adults)
LAST-MODIFIED;VALUE=DATE-TIME:20200325T134031Z
LOCATION:Biblioteca de l'Institut Puig Castellar
URL:https://elpuig.xeill.net/Members/institut/curs-2012-2013/club-de-lectu
 ra-2
END:VEVENT
BEGIN:VTIMEZONE
TZID:Europe/Madrid
X-LIC-LOCATION:Europe/Madrid
BEGIN:STANDARD
DTSTART;VALUE=DATE-TIME:20121028T020000
TZNAME:CET
TZOFFSETFROM:+0200
TZOFFSETTO:+0100
END:STANDARD
END:VTIMEZONE
END:VCALENDAR
