BEGIN:VCALENDAR
VERSION:2.0
PRODID:-//Plone.org//NONSGML plone.app.event//EN
X-WR-TIMEZONE:Europe/Madrid
BEGIN:VEVENT
SUMMARY:Club de lectura (joves)
DTSTART;TZID=Europe/Madrid;VALUE=DATE-TIME:20130313T183000
DTEND;TZID=Europe/Madrid;VALUE=DATE-TIME:20130313T200000
DTSTAMP;VALUE=DATE-TIME:20260420T033907Z
UID:b5676b0d5094486984aff4dd0006f274@192.168.0.130:8080
ATTENDEE;CN="Lectors i públic interessat en aquest llibre.";ROLE=REQ-PART
 ICIPANT:Lectors i públic interessat en aquest llibre.
CONTACT:Institut Puig Castellar\, 93 391 61 11\, fgallardo@iespuigcastella
 r.xeill.net
CREATED;VALUE=DATE-TIME:20200325T134029Z
DESCRIPTION:Segona sessió del club de lectura 1 (joves)
LAST-MODIFIED;VALUE=DATE-TIME:20200325T134030Z
LOCATION:Biblioteca de l'Institut Puig Castellar
URL:https://elpuig.xeill.net/Members/institut/curs-2012-2013/club-de-lectu
 ra
END:VEVENT
BEGIN:VTIMEZONE
TZID:Europe/Madrid
X-LIC-LOCATION:Europe/Madrid
BEGIN:STANDARD
DTSTART;VALUE=DATE-TIME:20121028T020000
TZNAME:CET
TZOFFSETFROM:+0200
TZOFFSETTO:+0100
END:STANDARD
END:VTIMEZONE
END:VCALENDAR
