BEGIN:VCALENDAR
VERSION:2.0
PRODID:-//Plone.org//NONSGML plone.app.event//EN
X-WR-TIMEZONE:Europe/Madrid
BEGIN:VEVENT
SUMMARY:Grup de lectura
DTSTART;TZID=Europe/Madrid;VALUE=DATE-TIME:20130213T183000
DTEND;TZID=Europe/Madrid;VALUE=DATE-TIME:20130213T213000
DTSTAMP;VALUE=DATE-TIME:20260420T033659Z
UID:f087dafa31eb4003ae0b072b48d89abd@192.168.0.130:8080
CONTACT:FGallardo\, fgallardo@iespuigcastellar.xeill.net
CREATED;VALUE=DATE-TIME:20200325T134029Z
DESCRIPTION:Sessions de comentari dels llibres llegits als grups de lectur
 a
LAST-MODIFIED;VALUE=DATE-TIME:20200325T134029Z
LOCATION:Biblioteca de l'Institut Puig Castellar
URL:https://elpuig.xeill.net/Members/institut/curs-2012-2013/grup-de-lectu
 ra
END:VEVENT
BEGIN:VTIMEZONE
TZID:Europe/Madrid
X-LIC-LOCATION:Europe/Madrid
BEGIN:STANDARD
DTSTART;VALUE=DATE-TIME:20121028T020000
TZNAME:CET
TZOFFSETFROM:+0200
TZOFFSETTO:+0100
END:STANDARD
END:VTIMEZONE
END:VCALENDAR
