BEGIN:VCALENDAR
VERSION:2.0
PRODID:-//Plone.org//NONSGML plone.app.event//EN
X-WR-TIMEZONE:Europe/Madrid
BEGIN:VEVENT
SUMMARY:Inici de curs 2012-2013
DTSTART;TZID=Europe/Madrid;VALUE=DATE-TIME:20120912T143000
DTEND;TZID=Europe/Madrid;VALUE=DATE-TIME:20120919T223000
DTSTAMP;VALUE=DATE-TIME:20260420T035002Z
UID:98cf0dce8e924808a79a21fad4b9abd7@192.168.0.130:8080
ATTENDEE;CN="Alumnat d'ESO, batxillerat i cicles formatius.";ROLE=REQ-PART
 ICIPANT:Alumnat d'ESO, batxillerat i cicles formatius.
CONTACT:Institut Puig Castellar\, 93 391 61 11\, a8028047@xtec.cat
CREATED;VALUE=DATE-TIME:20200325T134011Z
DESCRIPTION:Primer dia de classe del curs 2012-2013
LAST-MODIFIED;VALUE=DATE-TIME:20200325T134011Z
LOCATION:Institut Puig Castellar
URL:https://elpuig.xeill.net/Members/institut/curs-2012-2013/inici-de-curs
 -2012-2013
END:VEVENT
BEGIN:VTIMEZONE
TZID:Europe/Madrid
X-LIC-LOCATION:Europe/Madrid
BEGIN:DAYLIGHT
DTSTART;VALUE=DATE-TIME:20120325T030000
TZNAME:CEST
TZOFFSETFROM:+0100
TZOFFSETTO:+0200
END:DAYLIGHT
END:VTIMEZONE
END:VCALENDAR
