BEGIN:VCALENDAR
VERSION:2.0
PRODID:-//Plone.org//NONSGML plone.app.event//EN
X-WR-TIMEZONE:Europe/Madrid
BEGIN:VEVENT
SUMMARY:Presentació treballs de recerca
DTSTART;TZID=Europe/Madrid;VALUE=DATE-TIME:20130222T113000
DTEND;TZID=Europe/Madrid;VALUE=DATE-TIME:20130222T160000
DTSTAMP;VALUE=DATE-TIME:20260420T035004Z
UID:6e68ef18f8224299a770948ded39d8d6@192.168.0.130:8080
ATTENDEE;CN="Alumnes de 1r i 2n de batxillerat, professors dels instituts 
 de Santa Coloma de Gramenet familiars dels ponents i públic especialment 
 interessat en aquests temes";ROLE=REQ-PARTICIPANT:Alumnes de 1r i 2n de ba
 txillerat, professors dels instituts de Santa Coloma de Gramenet familiars
  dels ponents i públic especialment interessat en aquests temes
CONTACT:Centre de Recursos del Professorat
CREATED;VALUE=DATE-TIME:20200325T134031Z
DESCRIPTION:XIII Presentació de treballs de recerca de l'alumnat de 2n de
  batxillerat dels instituts de Santa Coloma de Gramenet
LAST-MODIFIED;VALUE=DATE-TIME:20200325T134032Z
LOCATION:Biblioteca Singuerlin-Salvador Cabré
URL:https://elpuig.xeill.net/Members/institut/curs-2012-2013/presentacio-t
 reballs-de-recerca
END:VEVENT
BEGIN:VTIMEZONE
TZID:Europe/Madrid
X-LIC-LOCATION:Europe/Madrid
BEGIN:STANDARD
DTSTART;VALUE=DATE-TIME:20121028T020000
TZNAME:CET
TZOFFSETFROM:+0200
TZOFFSETTO:+0100
END:STANDARD
END:VTIMEZONE
END:VCALENDAR
