BEGIN:VCALENDAR
VERSION:2.0
PRODID:-//Plone.org//NONSGML plone.app.event//EN
X-WR-TIMEZONE:Europe/Madrid
BEGIN:VEVENT
SUMMARY:Teatre al Puig
DTSTART;TZID=Europe/Madrid;VALUE=DATE-TIME:20121220T110000
DTEND;TZID=Europe/Madrid;VALUE=DATE-TIME:20121220T153000
DTSTAMP;VALUE=DATE-TIME:20260420T034947Z
UID:d94de9a875564c96b477dc130038fc43@192.168.0.130:8080
ATTENDEE;CN="Alumnat d'ESO.";ROLE=REQ-PARTICIPANT:Alumnat d'ESO.
CONTACT:Vanessa i Belinda\, 93 391 61 11\, a8028047@xtec.cat
CREATED;VALUE=DATE-TIME:20200325T134028Z
DESCRIPTION:Cinc obres de teatre representades per alumnes del nostre inst
 itut
LAST-MODIFIED;VALUE=DATE-TIME:20200325T134029Z
LOCATION:Sala d'actes de l'Institut Puig Castellar
URL:https://elpuig.xeill.net/Members/institut/curs-2012-2013/teatre-al-pui
 g
END:VEVENT
BEGIN:VTIMEZONE
TZID:Europe/Madrid
X-LIC-LOCATION:Europe/Madrid
BEGIN:STANDARD
DTSTART;VALUE=DATE-TIME:20121028T020000
TZNAME:CET
TZOFFSETFROM:+0200
TZOFFSETTO:+0100
END:STANDARD
END:VTIMEZONE
END:VCALENDAR
