BEGIN:VCALENDAR
VERSION:2.0
PRODID:-//Plone.org//NONSGML plone.app.event//EN
X-WR-TIMEZONE:Europe/Madrid
BEGIN:VEVENT
SUMMARY:Club de lectura 1 (joves): El Senyor de les Mosques
DTSTART;TZID=Europe/Madrid;VALUE=DATE-TIME:20131218T183000
DTEND;TZID=Europe/Madrid;VALUE=DATE-TIME:20131218T200000
DTSTAMP;VALUE=DATE-TIME:20260420T040231Z
UID:2d921aa53f914c22ba32ac3eaf4f4609@192.168.0.130:8080
ATTENDEE;CN="Alumnes de l'institut i, en general, joves interessats per la
  lectura.";ROLE=REQ-PARTICIPANT:Alumnes de l'institut i, en general, joves
  interessats per la lectura.
CONTACT:FGallardo\, 93 391 61 11\, webpuig@iespuigcastellar.xeill.net
CREATED;VALUE=DATE-TIME:20200325T134055Z
DESCRIPTION:Llibre per llegir i comentar a la propera sessió del club de 
 lectura 1 (joves): El senyor de les mosques
LAST-MODIFIED;VALUE=DATE-TIME:20200325T134056Z
LOCATION:Biblioteca de l'Institut Puig Castellar
URL:https://elpuig.xeill.net/Members/institut/curs-2013-2014/club-de-lectu
 ra-1-joves-el-senyor-de-les-mosques
END:VEVENT
BEGIN:VTIMEZONE
TZID:Europe/Madrid
X-LIC-LOCATION:Europe/Madrid
BEGIN:STANDARD
DTSTART;VALUE=DATE-TIME:20131027T020000
TZNAME:CET
TZOFFSETFROM:+0200
TZOFFSETTO:+0100
END:STANDARD
END:VTIMEZONE
END:VCALENDAR
