BEGIN:VCALENDAR
VERSION:2.0
PRODID:-//Plone.org//NONSGML plone.app.event//EN
X-WR-TIMEZONE:Europe/Madrid
BEGIN:VEVENT
SUMMARY:Club de lectura 1 (joves)
DTSTART;TZID=Europe/Madrid;VALUE=DATE-TIME:20131023T203000
DTEND;TZID=Europe/Madrid;VALUE=DATE-TIME:20131023T220000
DTSTAMP;VALUE=DATE-TIME:20260420T040141Z
UID:6cab5b3c4dd74c259f048c1a944c0549@192.168.0.130:8080
ATTENDEE;CN="Alumnes de qualsevol curs, exalumnes i, en general, joves que
  hagin llegit el llibre o que tinguin interés per la lectura.";ROLE=REQ-P
 ARTICIPANT:Alumnes de qualsevol curs, exalumnes i, en general, joves que h
 agin llegit el llibre o que tinguin interés per la lectura.
CONTACT:FGallardo\, 93 391 61 11\, a8028047@xtec.cat
CREATED;VALUE=DATE-TIME:20200325T134050Z
DESCRIPTION:Llibre per llegir i comentar a la propera sessió del club: El
  extraño caso del doctor Jekyll y el señor Hyde
LAST-MODIFIED;VALUE=DATE-TIME:20200325T134051Z
LOCATION:Biblioteca de l'Institut Puig Castellar
URL:https://elpuig.xeill.net/Members/institut/curs-2013-2014/club-de-lectu
 ra-1-joves
END:VEVENT
BEGIN:VTIMEZONE
TZID:Europe/Madrid
X-LIC-LOCATION:Europe/Madrid
BEGIN:DAYLIGHT
DTSTART;VALUE=DATE-TIME:20130331T030000
TZNAME:CEST
TZOFFSETFROM:+0100
TZOFFSETTO:+0200
END:DAYLIGHT
END:VTIMEZONE
END:VCALENDAR
