BEGIN:VCALENDAR
VERSION:2.0
PRODID:-//Plone.org//NONSGML plone.app.event//EN
X-WR-TIMEZONE:Europe/Madrid
BEGIN:VEVENT
SUMMARY:Club de lectura 2 (adults): El extranjero/ L'estrany
DTSTART;TZID=Europe/Madrid;VALUE=DATE-TIME:20131218T200000
DTEND;TZID=Europe/Madrid;VALUE=DATE-TIME:20131218T213000
DTSTAMP;VALUE=DATE-TIME:20260420T040316Z
UID:c89beb288d5646f9aaa4aeda7a76d47f@192.168.0.130:8080
ATTENDEE;CN="Pares i mares d'alumnes, professors i, en general, tots els a
 dults interessats pels clubs de lectura.";ROLE=REQ-PARTICIPANT:Pares i mar
 es d'alumnes, professors i, en general, tots els adults interessats pels c
 lubs de lectura.
CONTACT:FGallardo\, 93 391 61 11\, webpuig@iespuigcastellar.xeill.net
CREATED;VALUE=DATE-TIME:20200325T134056Z
DESCRIPTION:Llibre per llegir i comentar a la propera sessió del club: El
  extranjero/ L'estrany
LAST-MODIFIED;VALUE=DATE-TIME:20200325T134057Z
LOCATION:Biblioteca de l'Institut Puig Castellar
URL:https://elpuig.xeill.net/Members/institut/curs-2013-2014/club-de-lectu
 ra-2-adults-el-extranjero-lestrany
END:VEVENT
BEGIN:VTIMEZONE
TZID:Europe/Madrid
X-LIC-LOCATION:Europe/Madrid
BEGIN:STANDARD
DTSTART;VALUE=DATE-TIME:20131027T020000
TZNAME:CET
TZOFFSETFROM:+0200
TZOFFSETTO:+0100
END:STANDARD
END:VTIMEZONE
END:VCALENDAR
