BEGIN:VCALENDAR
VERSION:2.0
PRODID:-//Plone.org//NONSGML plone.app.event//EN
X-WR-TIMEZONE:Europe/Madrid
BEGIN:VEVENT
SUMMARY:Club de lectura 2 (adults): La familia de Pascual Duarte
DTSTART;TZID=Europe/Madrid;VALUE=DATE-TIME:20140528T220000
DTEND;TZID=Europe/Madrid;VALUE=DATE-TIME:20140528T233000
DTSTAMP;VALUE=DATE-TIME:20260420T150239Z
UID:cfa6086a29db4ab280a2be6cd206558d@192.168.0.130:8080
ATTENDEE;CN="Persones interessades en participar en un club de lectura.";R
 OLE=REQ-PARTICIPANT:Persones interessades en participar en un club de lect
 ura.
CONTACT:FGallardo\, 93 391 61 11\, iespuigcastellar@xtec.cat
CREATED;VALUE=DATE-TIME:20200325T134109Z
DESCRIPTION:Llibre per llegir i comentar a la propera sessió del club: La
  familia de Pascual Duarte
LAST-MODIFIED;VALUE=DATE-TIME:20200325T134110Z
LOCATION:Biblioteca de l'Institut Puig Castellar
URL:https://elpuig.xeill.net/Members/institut/curs-2013-2014/club-de-lectu
 ra-2-adults-la-familia-de-pascual-duarte
END:VEVENT
BEGIN:VTIMEZONE
TZID:Europe/Madrid
X-LIC-LOCATION:Europe/Madrid
BEGIN:DAYLIGHT
DTSTART;VALUE=DATE-TIME:20140330T030000
TZNAME:CEST
TZOFFSETFROM:+0100
TZOFFSETTO:+0200
END:DAYLIGHT
END:VTIMEZONE
END:VCALENDAR
