BEGIN:VCALENDAR
VERSION:2.0
PRODID:-//Plone.org//NONSGML plone.app.event//EN
X-WR-TIMEZONE:Europe/Madrid
BEGIN:VEVENT
SUMMARY:Club de lectura 2 (adults): Orgullo y prejuicio
DTSTART;TZID=Europe/Madrid;VALUE=DATE-TIME:20140122T200000
DTEND;TZID=Europe/Madrid;VALUE=DATE-TIME:20140122T213000
DTSTAMP;VALUE=DATE-TIME:20260420T040315Z
UID:138bd3548eec4528a4b7fd41d595a312@192.168.0.130:8080
ATTENDEE;CN="Adults que hagin llegit el llibre i, en general, totes les pe
 rsones interessades pels clubs de lectura.";ROLE=REQ-PARTICIPANT:Adults qu
 e hagin llegit el llibre i, en general, totes les persones interessades pe
 ls clubs de lectura.
CONTACT:FGallardo\, 93 391 61 11\, iespuigcastellar@xtec.cat
CREATED;VALUE=DATE-TIME:20200325T134058Z
DESCRIPTION:Llibre per llegir i comentar a la propera sessió del Club de 
 lectura 2: Orgullo y prejuicio\, de l'escriptora britànica Jane Austen
LAST-MODIFIED;VALUE=DATE-TIME:20200325T134059Z
LOCATION:Biblioteca de l'Institut Puig Castellar
URL:https://elpuig.xeill.net/Members/institut/curs-2013-2014/club-de-lectu
 ra-2-adults-orgullo-y-prejuicio
END:VEVENT
BEGIN:VTIMEZONE
TZID:Europe/Madrid
X-LIC-LOCATION:Europe/Madrid
BEGIN:STANDARD
DTSTART;VALUE=DATE-TIME:20131027T020000
TZNAME:CET
TZOFFSETFROM:+0200
TZOFFSETTO:+0100
END:STANDARD
END:VTIMEZONE
END:VCALENDAR
