BEGIN:VCALENDAR
VERSION:2.0
PRODID:-//Plone.org//NONSGML plone.app.event//EN
X-WR-TIMEZONE:Europe/Madrid
BEGIN:VEVENT
SUMMARY:Club de lectura 2 (adults)
DTSTART;TZID=Europe/Madrid;VALUE=DATE-TIME:20131023T220000
DTEND;TZID=Europe/Madrid;VALUE=DATE-TIME:20131023T233000
DTSTAMP;VALUE=DATE-TIME:20260420T035957Z
UID:324a9cd1e7cb4ed89cfc766861bd2dac@192.168.0.130:8080
ATTENDEE;CN="Mares, pares, professors i tot el públic adult que hagi lleg
 it el llibre i tingui interés per comentar-lo o per saber com funciona un
  club de lectura";ROLE=REQ-PARTICIPANT:Mares, pares, professors i tot el p
 úblic adult que hagi llegit el llibre i tingui interés per comentar-lo o
  per saber com funciona un club de lectura
CONTACT:FGallardo\, 93 391 61 11\, a8028047@xtec.cat
CREATED;VALUE=DATE-TIME:20200325T134051Z
DESCRIPTION:Llibre per llegir i comentar a la propera sessió del club: Cr
 ónica de una muerte anunciada
LAST-MODIFIED;VALUE=DATE-TIME:20200325T134052Z
LOCATION:Biblioteca de l'Institut Puig Castellar
URL:https://elpuig.xeill.net/Members/institut/curs-2013-2014/club-de-lectu
 ra-2-adults
END:VEVENT
BEGIN:VTIMEZONE
TZID:Europe/Madrid
X-LIC-LOCATION:Europe/Madrid
BEGIN:DAYLIGHT
DTSTART;VALUE=DATE-TIME:20130331T030000
TZNAME:CEST
TZOFFSETFROM:+0100
TZOFFSETTO:+0200
END:DAYLIGHT
END:VTIMEZONE
END:VCALENDAR
