BEGIN:VCALENDAR
VERSION:2.0
PRODID:-//Plone.org//NONSGML plone.app.event//EN
X-WR-TIMEZONE:Europe/Madrid
BEGIN:VEVENT
SUMMARY:Club de lectura 2 (adults): Cançó de Nadal
DTSTART;TZID=Europe/Madrid;VALUE=DATE-TIME:20141217T200000
DTEND;TZID=Europe/Madrid;VALUE=DATE-TIME:20141217T213000
DTSTAMP;VALUE=DATE-TIME:20260420T034948Z
UID:92bedaf2e2634e65b6a7c8a143457299@192.168.0.130:8080
ATTENDEE;CN="Pares, mares, professors i adults en general.";ROLE=REQ-PARTI
 CIPANT:Pares, mares, professors i adults en general.
CONTACT:FGallardo\, 933916111\, a8028047@xtec.cat
CREATED;VALUE=DATE-TIME:20200325T134123Z
DESCRIPTION:Novel·la de Charles Dickens
LAST-MODIFIED;VALUE=DATE-TIME:20200325T134123Z
LOCATION:Biblioteca de l'Institut Puig Castellar
URL:https://elpuig.xeill.net/Members/institut/curs-2014-2015/canco-de-nada
 l
END:VEVENT
BEGIN:VTIMEZONE
TZID:Europe/Madrid
X-LIC-LOCATION:Europe/Madrid
BEGIN:STANDARD
DTSTART;VALUE=DATE-TIME:20141026T020000
TZNAME:CET
TZOFFSETFROM:+0200
TZOFFSETTO:+0100
END:STANDARD
END:VTIMEZONE
END:VCALENDAR
