BEGIN:VCALENDAR
VERSION:2.0
PRODID:-//Plone.org//NONSGML plone.app.event//EN
X-WR-TIMEZONE:Europe/Madrid
BEGIN:VEVENT
SUMMARY:Club de lectura 1 (joves): La carretera
DTSTART;TZID=Europe/Madrid;VALUE=DATE-TIME:20141217T183000
DTEND;TZID=Europe/Madrid;VALUE=DATE-TIME:20141217T200000
DTSTAMP;VALUE=DATE-TIME:20260420T040230Z
UID:fce182cd90914d8bbe20b734d04d950a@192.168.0.130:8080
ATTENDEE;CN="Alumnes d'ESO i batxillerat.";ROLE=REQ-PARTICIPANT:Alumnes d'
 ESO i batxillerat.
CONTACT:FGallardo\, 933916111\, a8028047@xtec.cat
CREATED;VALUE=DATE-TIME:20200325T134122Z
DESCRIPTION:Novel·la de Cormac McCarthy
LAST-MODIFIED;VALUE=DATE-TIME:20200325T134122Z
LOCATION:Biblioteca de l'Institut Puig Castellar
URL:https://elpuig.xeill.net/Members/institut/curs-2014-2015/club-de-lectu
 ra-1-joves-la-carretera
END:VEVENT
BEGIN:VTIMEZONE
TZID:Europe/Madrid
X-LIC-LOCATION:Europe/Madrid
BEGIN:STANDARD
DTSTART;VALUE=DATE-TIME:20141026T020000
TZNAME:CET
TZOFFSETFROM:+0200
TZOFFSETTO:+0100
END:STANDARD
END:VTIMEZONE
END:VCALENDAR
