BEGIN:VCALENDAR
VERSION:2.0
PRODID:-//Plone.org//NONSGML plone.app.event//EN
X-WR-TIMEZONE:Europe/Madrid
BEGIN:VEVENT
SUMMARY:Club de lectura 1 (joves): Sobre héroes y tumbas
DTSTART;TZID=Europe/Madrid;VALUE=DATE-TIME:20141001T203000
DTEND;TZID=Europe/Madrid;VALUE=DATE-TIME:20141001T220000
DTSTAMP;VALUE=DATE-TIME:20260420T040356Z
UID:7f118be5d2c34d7e9055682c494aa2d7@192.168.0.130:8080
ATTENDEE;CN="Alumnes, ex alumnes i joves en general interessats per la lit
 eratura";ROLE=REQ-PARTICIPANT:Alumnes, ex alumnes i joves en general inter
 essats per la literatura
CONTACT:FGallardo\, 933916111\, a8028047@xtec.cat
CREATED;VALUE=DATE-TIME:20200325T134115Z
DESCRIPTION:Llibre per llegir i comentar a la propera sessió del Club de 
 lectura dels joves
LAST-MODIFIED;VALUE=DATE-TIME:20200325T134115Z
LOCATION:Biblioteca de l'Institut Puig Castellar
URL:https://elpuig.xeill.net/Members/institut/curs-2014-2015/club-de-lectu
 ra-1-joves-sobre-heroes-y-tumbas
END:VEVENT
BEGIN:VTIMEZONE
TZID:Europe/Madrid
X-LIC-LOCATION:Europe/Madrid
BEGIN:DAYLIGHT
DTSTART;VALUE=DATE-TIME:20140330T030000
TZNAME:CEST
TZOFFSETFROM:+0100
TZOFFSETTO:+0200
END:DAYLIGHT
END:VTIMEZONE
END:VCALENDAR
