BEGIN:VCALENDAR
VERSION:2.0
PRODID:-//Plone.org//NONSGML plone.app.event//EN
X-WR-TIMEZONE:Europe/Madrid
BEGIN:VEVENT
SUMMARY:Club de lectura 2 (adults): Família
DTSTART;TZID=Europe/Madrid;VALUE=DATE-TIME:20141001T220000
DTEND;TZID=Europe/Madrid;VALUE=DATE-TIME:20141001T233000
DTSTAMP;VALUE=DATE-TIME:20260420T040231Z
UID:3532fc1b65d742a39a3631d50a842574@192.168.0.130:8080
ATTENDEE;CN="Exalumnes, pares, mares, professors i persones interessades p
 er la literatura en general";ROLE=REQ-PARTICIPANT:Exalumnes, pares, mares,
  professors i persones interessades per la literatura en general
CONTACT:FGallardo\, 933916111\, a8028047@xtec.cat
CREATED;VALUE=DATE-TIME:20200325T134115Z
DESCRIPTION:Llibre per llegir i comentar: Família\, de l'escriptor xinès
  Ba Jin
LAST-MODIFIED;VALUE=DATE-TIME:20200325T134116Z
LOCATION:Biblioteca de l'Institut Puig Castellar
URL:https://elpuig.xeill.net/Members/institut/curs-2014-2015/club-de-lectu
 ra-2-adults-familia
END:VEVENT
BEGIN:VTIMEZONE
TZID:Europe/Madrid
X-LIC-LOCATION:Europe/Madrid
BEGIN:DAYLIGHT
DTSTART;VALUE=DATE-TIME:20140330T030000
TZNAME:CEST
TZOFFSETFROM:+0100
TZOFFSETTO:+0200
END:DAYLIGHT
END:VTIMEZONE
END:VCALENDAR
