BEGIN:VCALENDAR
VERSION:2.0
PRODID:-//Plone.org//NONSGML plone.app.event//EN
X-WR-TIMEZONE:Europe/Madrid
BEGIN:VEVENT
SUMMARY:Club de lectura 2 (adults): Les cendres d'Àngela
DTSTART;TZID=Europe/Madrid;VALUE=DATE-TIME:20141126T200000
DTEND;TZID=Europe/Madrid;VALUE=DATE-TIME:20141126T213000
DTSTAMP;VALUE=DATE-TIME:20260420T040151Z
UID:4d841d60030e4c61b5db36fc4447b24e@192.168.0.130:8080
ATTENDEE;CN="Adults que hagin llegit el llibre i que tinguin interès de p
 articipar a un club de lectura.";ROLE=REQ-PARTICIPANT:Adults que hagin lle
 git el llibre i que tinguin interès de participar a un club de lectura.
CONTACT:FGallardo\, 933916111\, a8028047@xtec.cat
CREATED;VALUE=DATE-TIME:20200325T134121Z
DESCRIPTION:Les cendres d'Àngela\, memòries de Frank McCourt
LAST-MODIFIED;VALUE=DATE-TIME:20200325T134121Z
LOCATION:Biblioteca de l'Institut Puig Castellar
URL:https://elpuig.xeill.net/Members/institut/curs-2014-2015/club-de-lectu
 ra-2-adults-les-cendres-dangela
END:VEVENT
BEGIN:VTIMEZONE
TZID:Europe/Madrid
X-LIC-LOCATION:Europe/Madrid
BEGIN:STANDARD
DTSTART;VALUE=DATE-TIME:20141026T020000
TZNAME:CET
TZOFFSETFROM:+0200
TZOFFSETTO:+0100
END:STANDARD
END:VTIMEZONE
END:VCALENDAR
