BEGIN:VCALENDAR
VERSION:2.0
PRODID:-//Plone.org//NONSGML plone.app.event//EN
X-WR-TIMEZONE:Europe/Madrid
BEGIN:VEVENT
SUMMARY:Club de lectura 2 (adults): El balcón en invierno
DTSTART;TZID=Europe/Madrid;VALUE=DATE-TIME:20141029T200000
DTEND;TZID=Europe/Madrid;VALUE=DATE-TIME:20141029T213000
DTSTAMP;VALUE=DATE-TIME:20260420T040316Z
UID:3360c483643b4dadb1851b3270f3cd4f@192.168.0.130:8080
ATTENDEE;CN="Adults interessats per la lectura";ROLE=REQ-PARTICIPANT:Adult
 s interessats per la lectura
CONTACT:FGallardo\, 933916111\, a8028047@xtec.cat
CREATED;VALUE=DATE-TIME:20200325T134117Z
DESCRIPTION:Llibre per llegir i comentar a la propera sessió del club
LAST-MODIFIED;VALUE=DATE-TIME:20200325T134118Z
LOCATION:Biblioteca de l'Institut Puig Castellar
URL:https://elpuig.xeill.net/Members/institut/curs-2014-2015/club-de-lectu
 ra-2-adults-un-balcon-en-invierno
END:VEVENT
BEGIN:VTIMEZONE
TZID:Europe/Madrid
X-LIC-LOCATION:Europe/Madrid
BEGIN:STANDARD
DTSTART;VALUE=DATE-TIME:20141026T020000
TZNAME:CET
TZOFFSETFROM:+0200
TZOFFSETTO:+0100
END:STANDARD
END:VTIMEZONE
END:VCALENDAR
