BEGIN:VCALENDAR
VERSION:2.0
PRODID:-//Plone.org//NONSGML plone.app.event//EN
X-WR-TIMEZONE:Europe/Madrid
BEGIN:VEVENT
SUMMARY:Club de lectura 1 (joves): Diari d'Anne Frank
DTSTART;TZID=Europe/Madrid;VALUE=DATE-TIME:20141126T183000
DTEND;TZID=Europe/Madrid;VALUE=DATE-TIME:20141126T203000
DTSTAMP;VALUE=DATE-TIME:20260420T040230Z
UID:c27eead35d404135ad2cd4335800fbd4@192.168.0.130:8080
ATTENDEE;CN="Alumnes, exalumnes i joves lectors.";ROLE=REQ-PARTICIPANT:Alu
 mnes, exalumnes i joves lectors.
CONTACT:FGallardo\, 933916111\, a8028047@xtec.cat
CREATED;VALUE=DATE-TIME:20200325T134120Z
DESCRIPTION:Llibre per llegir i comentar: Diari d'Anne Frank
LAST-MODIFIED;VALUE=DATE-TIME:20200325T134120Z
LOCATION:Biblioteca de l'Institut Puig Castellar
URL:https://elpuig.xeill.net/Members/institut/curs-2014-2015/club-de-lectu
 ra-joves-diari-danne-frank
END:VEVENT
BEGIN:VTIMEZONE
TZID:Europe/Madrid
X-LIC-LOCATION:Europe/Madrid
BEGIN:STANDARD
DTSTART;VALUE=DATE-TIME:20141026T020000
TZNAME:CET
TZOFFSETFROM:+0200
TZOFFSETTO:+0100
END:STANDARD
END:VTIMEZONE
END:VCALENDAR
