BEGIN:VCALENDAR
VERSION:2.0
PRODID:-//Plone.org//NONSGML plone.app.event//EN
X-WR-TIMEZONE:Europe/Madrid
BEGIN:VEVENT
SUMMARY:Concurs literari De 14 a 20
DTSTART;TZID=Europe/Madrid;VALUE=DATE-TIME:20141009T032000
DTEND;TZID=Europe/Madrid;VALUE=DATE-TIME:20150423T233000
DTSTAMP;VALUE=DATE-TIME:20260420T033659Z
UID:ca87d1c585a0426781a599b567685a58@192.168.0.130:8080
ATTENDEE;CN="Joves entre 14 i 20 anys que visquin, estudiïn o treballin a
  Santa Coloma de Gramenet";ROLE=REQ-PARTICIPANT:Joves entre 14 i 20 anys q
 ue visquin, estudiïn o treballin a Santa Coloma de Gramenet
CONTACT:AMPA Puig Castellar\, 93 391 61 11\, ampa@iespuigcastellar.xeill.n
 et
CREATED;VALUE=DATE-TIME:20200325T134118Z
DESCRIPTION:Concurs de relats per a joves de 14 a 20 anys
LAST-MODIFIED;VALUE=DATE-TIME:20200325T134118Z
LOCATION:Biblioteca de l'Institut Puig Castellar
URL:https://elpuig.xeill.net/Members/institut/curs-2014-2015/de-14-a-20
END:VEVENT
BEGIN:VTIMEZONE
TZID:Europe/Madrid
X-LIC-LOCATION:Europe/Madrid
BEGIN:DAYLIGHT
DTSTART;VALUE=DATE-TIME:20140330T030000
TZNAME:CEST
TZOFFSETFROM:+0100
TZOFFSETTO:+0200
END:DAYLIGHT
BEGIN:DAYLIGHT
DTSTART;VALUE=DATE-TIME:20150329T030000
TZNAME:CEST
TZOFFSETFROM:+0100
TZOFFSETTO:+0200
END:DAYLIGHT
END:VTIMEZONE
END:VCALENDAR
