BEGIN:VCALENDAR
VERSION:2.0
PRODID:-//Plone.org//NONSGML plone.app.event//EN
X-WR-TIMEZONE:Europe/Madrid
BEGIN:VEVENT
SUMMARY:Club de lectura 1 (joves): L'home invisible
DTSTART;TZID=Europe/Madrid;VALUE=DATE-TIME:20151216T183000
DTEND;TZID=Europe/Madrid;VALUE=DATE-TIME:20151216T200000
DTSTAMP;VALUE=DATE-TIME:20260420T040316Z
UID:f973fca3b439448d9dd75cba3fe1d62b@192.168.0.130:8080
ATTENDEE;CN="Alumnes aficionats a la literatura.";ROLE=REQ-PARTICIPANT:Alu
 mnes aficionats a la literatura.
CONTACT:F. Gallardo\, 93 391 61 11\, a8028047@xtec.cat
CREATED;VALUE=DATE-TIME:20200325T134146Z
DESCRIPTION:Novel·la de l'escriptor H. G. Wells
LAST-MODIFIED;VALUE=DATE-TIME:20200325T134147Z
LOCATION:Biblioteca de l'Institut Puig Castellar
URL:https://elpuig.xeill.net/Members/institut/curs-2015-2016/club-de-lectu
 ra-1-joves-lhome-invisible
END:VEVENT
BEGIN:VTIMEZONE
TZID:Europe/Madrid
X-LIC-LOCATION:Europe/Madrid
BEGIN:STANDARD
DTSTART;VALUE=DATE-TIME:20151025T020000
TZNAME:CET
TZOFFSETFROM:+0200
TZOFFSETTO:+0100
END:STANDARD
END:VTIMEZONE
END:VCALENDAR
