BEGIN:VCALENDAR
VERSION:2.0
PRODID:-//Plone.org//NONSGML plone.app.event//EN
X-WR-TIMEZONE:Europe/Madrid
BEGIN:VEVENT
SUMMARY:Club de lectura 1 (joves): Los mitos de Cthulhu
DTSTART;TZID=Europe/Madrid;VALUE=DATE-TIME:20150930T203000
DTEND;TZID=Europe/Madrid;VALUE=DATE-TIME:20150930T220000
DTSTAMP;VALUE=DATE-TIME:20260420T040231Z
UID:234cba7265ee41ee87355b0a1ab2f1c7@192.168.0.130:8080
ATTENDEE;CN="Alumnes i ex-alumnes d'ESO i batxillerat";ROLE=REQ-PARTICIPAN
 T:Alumnes i ex-alumnes d'ESO i batxillerat
CONTACT:F. Gallardo\, 933916111\, fgallardo@iespuigcastellar.xeill.net
CREATED;VALUE=DATE-TIME:20200325T134137Z
DESCRIPTION:Relats de H. P. Lovecraft
LAST-MODIFIED;VALUE=DATE-TIME:20200325T134138Z
LOCATION:Biblioteca de l'Institut Puig Castellar
URL:https://elpuig.xeill.net/Members/institut/curs-2015-2016/club-de-lectu
 ra-1-joves-los-mitos-de-cthulhu
END:VEVENT
BEGIN:VTIMEZONE
TZID:Europe/Madrid
X-LIC-LOCATION:Europe/Madrid
BEGIN:DAYLIGHT
DTSTART;VALUE=DATE-TIME:20150329T030000
TZNAME:CEST
TZOFFSETFROM:+0100
TZOFFSETTO:+0200
END:DAYLIGHT
END:VTIMEZONE
END:VCALENDAR
