BEGIN:VCALENDAR
VERSION:2.0
PRODID:-//Plone.org//NONSGML plone.app.event//EN
X-WR-TIMEZONE:Europe/Madrid
BEGIN:VEVENT
SUMMARY:Club de lectura 1 (joves): Un altre pas de rosca
DTSTART;TZID=Europe/Madrid;VALUE=DATE-TIME:20151125T183000
DTEND;TZID=Europe/Madrid;VALUE=DATE-TIME:20151125T200000
DTSTAMP;VALUE=DATE-TIME:20260420T040231Z
UID:fe055fb409d9492eaa9d8b0658d7133a@192.168.0.130:8080
ATTENDEE;CN="Alumnes de l'Institut Puig Castellar i joves lectors en gener
 al";ROLE=REQ-PARTICIPANT:Alumnes de l'Institut Puig Castellar i joves lect
 ors en general
CONTACT:F. Gallardo\, 93 391 61 11\, a8028047@xtec.cat
CREATED;VALUE=DATE-TIME:20200325T134141Z
DESCRIPTION:Novel·la de Henry James
LAST-MODIFIED;VALUE=DATE-TIME:20200325T134141Z
LOCATION:Biblioteca de l'Institut Puig Castellar
URL:https://elpuig.xeill.net/Members/institut/curs-2015-2016/club-de-lectu
 ra-1-joves-un-altre-pas-de-rosca
END:VEVENT
BEGIN:VTIMEZONE
TZID:Europe/Madrid
X-LIC-LOCATION:Europe/Madrid
BEGIN:STANDARD
DTSTART;VALUE=DATE-TIME:20151025T020000
TZNAME:CET
TZOFFSETFROM:+0200
TZOFFSETTO:+0100
END:STANDARD
END:VTIMEZONE
END:VCALENDAR
