BEGIN:VCALENDAR
VERSION:2.0
PRODID:-//Plone.org//NONSGML plone.app.event//EN
X-WR-TIMEZONE:Europe/Madrid
BEGIN:VEVENT
SUMMARY:Club de lectura 2 (adults): Incerta glòria
DTSTART;TZID=Europe/Madrid;VALUE=DATE-TIME:20150930T220000
DTEND;TZID=Europe/Madrid;VALUE=DATE-TIME:20150930T233000
DTSTAMP;VALUE=DATE-TIME:20260420T040316Z
UID:402a8c5ccf7e43c6bf52df1133702f09@192.168.0.130:8080
ATTENDEE;CN="Pares, mares, alumnes i professors";ROLE=REQ-PARTICIPANT:Pare
 s, mares, alumnes i professors
CONTACT:F. Gallardo\, 933916111\, fgallardo@iespuigcastellar.xeill.net
CREATED;VALUE=DATE-TIME:20200325T134138Z
DESCRIPTION:Novel·la de Joan Sales
LAST-MODIFIED;VALUE=DATE-TIME:20200325T134138Z
URL:https://elpuig.xeill.net/Members/institut/curs-2015-2016/club-de-lectu
 ra-2-adults-incerta-gloria
END:VEVENT
BEGIN:VTIMEZONE
TZID:Europe/Madrid
X-LIC-LOCATION:Europe/Madrid
BEGIN:DAYLIGHT
DTSTART;VALUE=DATE-TIME:20150329T030000
TZNAME:CEST
TZOFFSETFROM:+0100
TZOFFSETTO:+0200
END:DAYLIGHT
END:VTIMEZONE
END:VCALENDAR
