BEGIN:VCALENDAR
VERSION:2.0
PRODID:-//Plone.org//NONSGML plone.app.event//EN
X-WR-TIMEZONE:Europe/Madrid
BEGIN:VEVENT
SUMMARY:Club de lectura 2 (adults): La llegenda del sant bevedor
DTSTART;TZID=Europe/Madrid;VALUE=DATE-TIME:20151216T200000
DTEND;TZID=Europe/Madrid;VALUE=DATE-TIME:20151216T213000
DTSTAMP;VALUE=DATE-TIME:20260420T040356Z
UID:4af5f88c9e5444ff85d26198a21bf178@192.168.0.130:8080
ATTENDEE;CN="Pares, mares, professors i lectors en general";ROLE=REQ-PARTI
 CIPANT:Pares, mares, professors i lectors en general
CONTACT:F. Gallardo\, 93 391 61 11\, a8028047@xtec.cat
CREATED;VALUE=DATE-TIME:20200325T134147Z
DESCRIPTION:Novel·la de Joseph Roth
LAST-MODIFIED;VALUE=DATE-TIME:20200325T134147Z
LOCATION:Biblioteca de l'Institut Puig Castellar
URL:https://elpuig.xeill.net/Members/institut/curs-2015-2016/club-de-lectu
 ra-2-adults-la-llegenda-del-sant-bevedor
END:VEVENT
BEGIN:VTIMEZONE
TZID:Europe/Madrid
X-LIC-LOCATION:Europe/Madrid
BEGIN:STANDARD
DTSTART;VALUE=DATE-TIME:20151025T020000
TZNAME:CET
TZOFFSETFROM:+0200
TZOFFSETTO:+0100
END:STANDARD
END:VTIMEZONE
END:VCALENDAR
