BEGIN:VCALENDAR
VERSION:2.0
PRODID:-//Plone.org//NONSGML plone.app.event//EN
X-WR-TIMEZONE:Europe/Madrid
BEGIN:VEVENT
SUMMARY:Club de lectura 2: El rei Lear
DTSTART;TZID=Europe/Madrid;VALUE=DATE-TIME:20151028T200000
DTEND;TZID=Europe/Madrid;VALUE=DATE-TIME:20151028T213000
DTSTAMP;VALUE=DATE-TIME:20260420T035837Z
UID:4b7644403b6b4a4cb6e9787ee8a97617@192.168.0.130:8080
ATTENDEE;CN="Pares, mares, professors i lectors en general.";ROLE=REQ-PART
 ICIPANT:Pares, mares, professors i lectors en general.
CONTACT:F. Gallardo\, 93 391 61 11\, webpuig@iespuigcastellar.xeill.net
CREATED;VALUE=DATE-TIME:20200325T134139Z
DESCRIPTION:Tragèdia de William Shakespeare
LAST-MODIFIED;VALUE=DATE-TIME:20200325T134139Z
LOCATION:Biblioteca de l'Institut Puig Castellar
URL:https://elpuig.xeill.net/Members/institut/curs-2015-2016/club-de-lectu
 ra-2-el-rei-lear
END:VEVENT
BEGIN:VTIMEZONE
TZID:Europe/Madrid
X-LIC-LOCATION:Europe/Madrid
BEGIN:STANDARD
DTSTART;VALUE=DATE-TIME:20151025T020000
TZNAME:CET
TZOFFSETFROM:+0200
TZOFFSETTO:+0100
END:STANDARD
END:VTIMEZONE
END:VCALENDAR
