BEGIN:VCALENDAR
VERSION:2.0
PRODID:-//Plone.org//NONSGML plone.app.event//EN
X-WR-TIMEZONE:Europe/Madrid
BEGIN:VEVENT
SUMMARY:Concurs literari De 14 a 20
DTSTART;TZID=Europe/Madrid;VALUE=DATE-TIME:20151028T200000
DTEND;TZID=Europe/Madrid;VALUE=DATE-TIME:20160420T220000
DTSTAMP;VALUE=DATE-TIME:20260420T035837Z
UID:662a96065f4d482a985af4180759544e@192.168.0.130:8080
ATTENDEE;CN="Joves de Santa Coloma interessats en la lectura i en l'escrip
 tura";ROLE=REQ-PARTICIPANT:Joves de Santa Coloma interessats en la lectura
  i en l'escriptura
CONTACT:AMPA de l'Institut Puig Castellar\, 93 391 61 11\, ampa@iespuigcas
 tellar.xeill.net
CREATED;VALUE=DATE-TIME:20200325T134142Z
DESCRIPTION:Concurs de relats per a joves d'entre 14 i 20 anys
LAST-MODIFIED;VALUE=DATE-TIME:20200325T134143Z
LOCATION:Biblioteca de l'Institut Puig Castellar
URL:https://elpuig.xeill.net/Members/institut/curs-2015-2016/concurs-liter
 ari-de-14-a-20
END:VEVENT
BEGIN:VTIMEZONE
TZID:Europe/Madrid
X-LIC-LOCATION:Europe/Madrid
BEGIN:STANDARD
DTSTART;VALUE=DATE-TIME:20151025T020000
TZNAME:CET
TZOFFSETFROM:+0200
TZOFFSETTO:+0100
END:STANDARD
BEGIN:DAYLIGHT
DTSTART;VALUE=DATE-TIME:20160327T030000
TZNAME:CEST
TZOFFSETFROM:+0100
TZOFFSETTO:+0200
END:DAYLIGHT
END:VTIMEZONE
END:VCALENDAR
