BEGIN:VCALENDAR
VERSION:2.0
PRODID:-//Plone.org//NONSGML plone.app.event//EN
X-WR-TIMEZONE:Europe/Madrid
BEGIN:VEVENT
SUMMARY:Club de lectura 1 (joves): La transformació/La metamorfosis
DTSTART;TZID=Europe/Madrid;VALUE=DATE-TIME:20151028T183000
DTEND;TZID=Europe/Madrid;VALUE=DATE-TIME:20151028T200000
DTSTAMP;VALUE=DATE-TIME:20260420T035714Z
UID:3b985b25a019413e9a3de460f7893bd2@192.168.0.130:8080
ATTENDEE;CN="Alumnes interessats per la literatura";ROLE=REQ-PARTICIPANT:A
 lumnes interessats per la literatura
CONTACT:F. Gallardo\, 93 391 61 11\, webpuig@iespuigcastellar.xeill.net
CREATED;VALUE=DATE-TIME:20200325T134140Z
DESCRIPTION:Relat de Franz Kafka
LAST-MODIFIED;VALUE=DATE-TIME:20200325T134140Z
LOCATION:Biblioteca de l'Institut Puig Castellar
URL:https://elpuig.xeill.net/Members/institut/curs-2015-2016/la-transforma
 cio-la-metamorfosis
END:VEVENT
BEGIN:VTIMEZONE
TZID:Europe/Madrid
X-LIC-LOCATION:Europe/Madrid
BEGIN:STANDARD
DTSTART;VALUE=DATE-TIME:20151025T020000
TZNAME:CET
TZOFFSETFROM:+0200
TZOFFSETTO:+0100
END:STANDARD
END:VTIMEZONE
END:VCALENDAR
