BEGIN:VCALENDAR
VERSION:2.0
PRODID:-//Plone.org//NONSGML plone.app.event//EN
X-WR-TIMEZONE:Europe/Madrid
BEGIN:VEVENT
SUMMARY:Club de lectura: Silas Marner
DTSTART;TZID=Europe/Madrid;VALUE=DATE-TIME:20160928T220000
DTEND;TZID=Europe/Madrid;VALUE=DATE-TIME:20160928T233000
DTSTAMP;VALUE=DATE-TIME:20260420T033557Z
UID:672cbdce917543ebb9ebef7f0d562587@192.168.0.130:8080
ATTENDEE;CN="Lectors interessats en participar al club de lectura";ROLE=RE
 Q-PARTICIPANT:Lectors interessats en participar al club de lectura
CONTACT:FGallardo\, 933916111\, fgallardo@iespuigcastellar.xeill.net
CREATED;VALUE=DATE-TIME:20200325T134204Z
DESCRIPTION:Novel·la de l'escriptora britànica George Eliot
LAST-MODIFIED;VALUE=DATE-TIME:20200325T134204Z
LOCATION:Biblioteca de l'Institut Puig Castellar
URL:https://elpuig.xeill.net/Members/institut/curs-2016-2017/silas-marner
END:VEVENT
BEGIN:VTIMEZONE
TZID:Europe/Madrid
X-LIC-LOCATION:Europe/Madrid
BEGIN:DAYLIGHT
DTSTART;VALUE=DATE-TIME:20160327T030000
TZNAME:CEST
TZOFFSETFROM:+0100
TZOFFSETTO:+0200
END:DAYLIGHT
END:VTIMEZONE
END:VCALENDAR
