BEGIN:VCALENDAR
VERSION:2.0
PRODID:-//Plone.org//NONSGML plone.app.event//EN
X-WR-TIMEZONE:Europe/Madrid
BEGIN:VEVENT
SUMMARY:Club de lectura: Fam
DTSTART;TZID=Europe/Madrid;VALUE=DATE-TIME:20180228T200000
DTEND;TZID=Europe/Madrid;VALUE=DATE-TIME:20180228T213000
DTSTAMP;VALUE=DATE-TIME:20260420T035957Z
UID:f19317011d4647b7a5fabbc326c6501d@192.168.0.130:8080
ATTENDEE;CN="Persones interessades en comentar aquest llibre.";ROLE=REQ-PA
 RTICIPANT:Persones interessades en comentar aquest llibre.
CONTACT:FGallardo\, 677216975\, a8028047@xtec.cat
CREATED;VALUE=DATE-TIME:20200325T134259Z
DESCRIPTION:Novel·la de Knut Hamsun
LAST-MODIFIED;VALUE=DATE-TIME:20200325T134300Z
LOCATION:Biblioteca de l'Institut Puig Castellar
URL:https://elpuig.xeill.net/Members/institut/curs-2017-2018/club-de-lectu
 ra-fam
END:VEVENT
BEGIN:VTIMEZONE
TZID:Europe/Madrid
X-LIC-LOCATION:Europe/Madrid
BEGIN:STANDARD
DTSTART;VALUE=DATE-TIME:20171029T020000
TZNAME:CET
TZOFFSETFROM:+0200
TZOFFSETTO:+0100
END:STANDARD
END:VTIMEZONE
END:VCALENDAR
