BEGIN:VCALENDAR
VERSION:2.0
PRODID:-//Plone.org//NONSGML plone.app.event//EN
X-WR-TIMEZONE:Europe/Madrid
BEGIN:VEVENT
SUMMARY:Club de lectura: La piel de zapa/ La pell de xagrí
DTSTART;TZID=Europe/Madrid;VALUE=DATE-TIME:20170927T220000
DTEND;TZID=Europe/Madrid;VALUE=DATE-TIME:20170927T233000
DTSTAMP;VALUE=DATE-TIME:20260420T040357Z
UID:47dd9ad7d11c44209cc192cec20040f5@192.168.0.130:8080
ATTENDEE;CN="Pares, mares, professors, alumnes i lectors en general";ROLE=
 REQ-PARTICIPANT:Pares, mares, professors, alumnes i lectors en general
CONTACT:FGallardo\, 677216975\, a8028047@xtec.cat
CREATED;VALUE=DATE-TIME:20200325T134255Z
DESCRIPTION:Novel·la de Balzac
LAST-MODIFIED;VALUE=DATE-TIME:20200325T134255Z
LOCATION:Biblioteca de l'Institut Puig Castellar
URL:https://elpuig.xeill.net/Members/institut/curs-2017-2018/club-de-lectu
 ra-la-piel-de-zapa-la-pell-de-xagri
END:VEVENT
BEGIN:VTIMEZONE
TZID:Europe/Madrid
X-LIC-LOCATION:Europe/Madrid
BEGIN:DAYLIGHT
DTSTART;VALUE=DATE-TIME:20170326T030000
TZNAME:CEST
TZOFFSETFROM:+0100
TZOFFSETTO:+0200
END:DAYLIGHT
END:VTIMEZONE
END:VCALENDAR
