BEGIN:VCALENDAR
VERSION:2.0
PRODID:-//Plone.org//NONSGML plone.app.event//EN
X-WR-TIMEZONE:Europe/Madrid
BEGIN:VEVENT
SUMMARY:Club de lectura: Pedro Páramo y El llano en llamas
DTSTART;TZID=Europe/Madrid;VALUE=DATE-TIME:20171129T200000
DTEND;TZID=Europe/Madrid;VALUE=DATE-TIME:20171129T213000
DTSTAMP;VALUE=DATE-TIME:20260420T040151Z
UID:d88ea1a235dc4a09af4c25a84074f958@192.168.0.130:8080
ATTENDEE;CN="Lectors en general";ROLE=REQ-PARTICIPANT:Lectors en general
CONTACT:FGallardo\, 677216975\, a8028047@xtec.cat
CREATED;VALUE=DATE-TIME:20200325T134257Z
DESCRIPTION:Una novel·la i un llibre de relats de Juan Rulfo
LAST-MODIFIED;VALUE=DATE-TIME:20200325T134257Z
LOCATION:Biblioteca de l'Institut Puig Castellar
URL:https://elpuig.xeill.net/Members/institut/curs-2017-2018/club-de-lectu
 ra-pedro-paramo-y-el-llano-en-llamas
END:VEVENT
BEGIN:VTIMEZONE
TZID:Europe/Madrid
X-LIC-LOCATION:Europe/Madrid
BEGIN:STANDARD
DTSTART;VALUE=DATE-TIME:20171029T020000
TZNAME:CET
TZOFFSETFROM:+0200
TZOFFSETTO:+0100
END:STANDARD
END:VTIMEZONE
END:VCALENDAR
