BEGIN:VCALENDAR
VERSION:2.0
PRODID:-//Plone.org//NONSGML plone.app.event//EN
X-WR-TIMEZONE:Europe/Madrid
BEGIN:VEVENT
SUMMARY:Concurs De 14 a 20
DTSTART;TZID=Europe/Madrid;VALUE=DATE-TIME:20180131T193000
DTEND;TZID=Europe/Madrid;VALUE=DATE-TIME:20180423T230000
DTSTAMP;VALUE=DATE-TIME:20260420T033908Z
UID:7450cd758b724db7b28ed8a5acc9cb51@192.168.0.130:8080
ATTENDEE;CN="Joves de Santa Coloma de 14 a 20 anys interessats en la liter
 atura";ROLE=REQ-PARTICIPANT:Joves de Santa Coloma de 14 a 20 anys interess
 ats en la literatura
CONTACT:FGallardo\, 677216975\, ampa@iespuigcastellar.xeill.net
CREATED;VALUE=DATE-TIME:20200325T134300Z
DESCRIPTION:Concurs literari per a joves de 14 a 20 anys
LAST-MODIFIED;VALUE=DATE-TIME:20200325T134301Z
LOCATION:Biblioteca de l'Institut Puig Castellar
URL:https://elpuig.xeill.net/Members/institut/curs-2017-2018/concurs-de-14
 -a-20
END:VEVENT
BEGIN:VTIMEZONE
TZID:Europe/Madrid
X-LIC-LOCATION:Europe/Madrid
BEGIN:STANDARD
DTSTART;VALUE=DATE-TIME:20171029T020000
TZNAME:CET
TZOFFSETFROM:+0200
TZOFFSETTO:+0100
END:STANDARD
BEGIN:DAYLIGHT
DTSTART;VALUE=DATE-TIME:20180325T030000
TZNAME:CEST
TZOFFSETFROM:+0100
TZOFFSETTO:+0200
END:DAYLIGHT
END:VTIMEZONE
END:VCALENDAR
