BEGIN:VCALENDAR
VERSION:2.0
PRODID:-//Plone.org//NONSGML plone.app.event//EN
X-WR-TIMEZONE:Europe/Madrid
BEGIN:VEVENT
SUMMARY:Club de lectura: Solitud
DTSTART;TZID=Europe/Madrid;VALUE=DATE-TIME:20171025T220000
DTEND;TZID=Europe/Madrid;VALUE=DATE-TIME:20171025T233000
DTSTAMP;VALUE=DATE-TIME:20260420T033630Z
UID:f45d903a61664608aa332cfb34d6ca07@192.168.0.130:8080
ATTENDEE;CN="Pares, mares, professors, alumnes i lectors en general";ROLE=
 REQ-PARTICIPANT:Pares, mares, professors, alumnes i lectors en general
CONTACT:FGallardo\, 677216975\, a8028047@xtec.cat
CREATED;VALUE=DATE-TIME:20200325T134256Z
DESCRIPTION:Novel·la de Víctor Català
LAST-MODIFIED;VALUE=DATE-TIME:20200325T134256Z
LOCATION:Biblioteca de l'Institut Puig Castellar
URL:https://elpuig.xeill.net/Members/institut/curs-2017-2018/solitud
END:VEVENT
BEGIN:VTIMEZONE
TZID:Europe/Madrid
X-LIC-LOCATION:Europe/Madrid
BEGIN:DAYLIGHT
DTSTART;VALUE=DATE-TIME:20170326T030000
TZNAME:CEST
TZOFFSETFROM:+0100
TZOFFSETTO:+0200
END:DAYLIGHT
END:VTIMEZONE
END:VCALENDAR
