BEGIN:VCALENDAR
VERSION:2.0
PRODID:-//Plone.org//NONSGML plone.app.event//EN
X-WR-TIMEZONE:Europe/Madrid
BEGIN:VEVENT
SUMMARY:Grup de lectura: El difunto Matías Pascal
DTSTART;TZID=Europe/Madrid;VALUE=DATE-TIME:20181028T200000
DTEND;TZID=Europe/Madrid;VALUE=DATE-TIME:20181128T213000
DTSTAMP;VALUE=DATE-TIME:20260420T040140Z
UID:a0e3770f3c2248559ba9bc9448140995@192.168.0.130:8080
ATTENDEE;CN="Lectors interessats en comentar amb altres persones els llibr
 es llegits";ROLE=REQ-PARTICIPANT:Lectors interessats en comentar amb altre
 s persones els llibres llegits
CONTACT:FGallardo\, 93 3916111\, a8028047@xtec.cat
CREATED;VALUE=DATE-TIME:20200325T134322Z
DESCRIPTION:Novel·la de l'escriptor italià Luigi Pirandello
LAST-MODIFIED;VALUE=DATE-TIME:20200325T134322Z
LOCATION:Biblioteca de l'Institut Puig Castellar
URL:https://elpuig.xeill.net/Members/institut/curs-2018-2019/grup-de-lectu
 ra-el-difunto-matias-pascal
END:VEVENT
BEGIN:VTIMEZONE
TZID:Europe/Madrid
X-LIC-LOCATION:Europe/Madrid
BEGIN:STANDARD
DTSTART;VALUE=DATE-TIME:20181028T020000
TZNAME:CET
TZOFFSETFROM:+0200
TZOFFSETTO:+0100
END:STANDARD
END:VTIMEZONE
END:VCALENDAR
