BEGIN:VCALENDAR
VERSION:2.0
PRODID:-//Plone.org//NONSGML plone.app.event//EN
X-WR-TIMEZONE:Europe/Madrid
BEGIN:VEVENT
SUMMARY:Charla de Richard Stallman en Santa Coloma
DTSTART;TZID=Europe/Madrid;VALUE=DATE-TIME:20110313T210000
DTEND;TZID=Europe/Madrid;VALUE=DATE-TIME:20110313T220000
DTSTAMP;VALUE=DATE-TIME:20260421T101156Z
UID:64e7c97df6f344899286b2c897865c79@192.168.0.130:8080
CREATED;VALUE=DATE-TIME:20200325T143644Z
LAST-MODIFIED;VALUE=DATE-TIME:20200325T143644Z
LOCATION:C/Montserrat 3-5 Santa Coloma de Gramenet
URL:https://elpuig.xeill.net/Members/vcarceler/misc/news/2011/charla-de-ri
 chard-stallman-en-santa-coloma
END:VEVENT
BEGIN:VTIMEZONE
TZID:Europe/Madrid
X-LIC-LOCATION:Europe/Madrid
BEGIN:STANDARD
DTSTART;VALUE=DATE-TIME:20101031T020000
TZNAME:CET
TZOFFSETFROM:+0200
TZOFFSETTO:+0100
END:STANDARD
END:VTIMEZONE
END:VCALENDAR
