BEGIN:VCALENDAR
VERSION:2.0
PRODID:-//Plone.org//NONSGML plone.app.event//EN
X-WR-TIMEZONE:Europe/Madrid
BEGIN:VEVENT
SUMMARY:1es Jornades d'intercanvi d'experiències FP
DTSTART;TZID=Europe/Madrid;VALUE=DATE-TIME:20161109T153000
DTEND;TZID=Europe/Madrid;VALUE=DATE-TIME:20170426T200000
DTSTAMP;VALUE=DATE-TIME:20260419T135325Z
UID:4085dea736ee405ea4c9c38cb72a5214@192.168.0.130:8080
ATTENDEE;CN="-Institut Puig Castellar";ROLE=REQ-PARTICIPANT:-Institut Puig
  Castellar
ATTENDEE;CN="-Institut Les Vinyes";ROLE=REQ-PARTICIPANT:-Institut Les Viny
 es
ATTENDEE;CN="-Institut La bastida";ROLE=REQ-PARTICIPANT:-Institut La basti
 da
ATTENDEE;CN="-Institut Ribot i Serra";ROLE=REQ-PARTICIPANT:-Institut Ribot
  i Serra
ATTENDEE;CN="-Ajuntament de Santa Coloma de Gramenet";ROLE=REQ-PARTICIPANT
 :-Ajuntament de Santa Coloma de Gramenet
ATTENDEE;CN="-Károlyi Mihály Magyar-Spanyol Tannyelvű Gimnázium";ROLE=
 REQ-PARTICIPANT:-Károlyi Mihály Magyar-Spanyol Tannyelvű Gimnázium
ATTENDEE;CN="-Halesowen College of Further Education";ROLE=REQ-PARTICIPANT
 :-Halesowen College of Further Education
ATTENDEE;CN="-Associació Mundus";ROLE=REQ-PARTICIPANT:-Associació Mundus
ATTENDEE;CN=Altres;ROLE=REQ-PARTICIPANT:Altres
CONTACT:Roger Borrell\, 93 391 61 11\, rborrell@elpuig.xeill.net
CREATED;VALUE=DATE-TIME:20200325T173111Z
LAST-MODIFIED;VALUE=DATE-TIME:20200325T173112Z
LOCATION:Biblioteca Singerlin\, Santa Coloma de Gramenet
URL:https://elpuig.xeill.net/el-centre/erasmus/switch-project/1es-jornades
 -dintercanvi-dexperiencies-fp
END:VEVENT
BEGIN:VTIMEZONE
TZID:Europe/Madrid
X-LIC-LOCATION:Europe/Madrid
BEGIN:STANDARD
DTSTART;VALUE=DATE-TIME:20161030T020000
TZNAME:CET
TZOFFSETFROM:+0200
TZOFFSETTO:+0100
END:STANDARD
BEGIN:DAYLIGHT
DTSTART;VALUE=DATE-TIME:20170326T030000
TZNAME:CEST
TZOFFSETFROM:+0100
TZOFFSETTO:+0200
END:DAYLIGHT
END:VTIMEZONE
END:VCALENDAR
