BEGIN:VCALENDAR
VERSION:2.0
PRODID:-//Plone.org//NONSGML plone.app.event//EN
X-WR-TIMEZONE:Europe/Madrid
BEGIN:VEVENT
SUMMARY:I després de 4t d'ESO\, què? Xerrada informativa
DTSTART;TZID=Europe/Madrid;VALUE=DATE-TIME:20140403T223000
DTEND;TZID=Europe/Madrid;VALUE=DATE-TIME:20140403T235500
DTSTAMP;VALUE=DATE-TIME:20260421T135047Z
UID:0141bb764b304af68646ed44135a9a4a@192.168.0.130:8080
CREATED;VALUE=DATE-TIME:20200325T154519Z
LAST-MODIFIED;VALUE=DATE-TIME:20200325T154519Z
URL:https://elpuig.xeill.net/el-centre/noticies/2013-2014/i-despres-de-4t-
 deso-que-xerrada-informativa
END:VEVENT
BEGIN:VTIMEZONE
TZID:Europe/Madrid
X-LIC-LOCATION:Europe/Madrid
BEGIN:DAYLIGHT
DTSTART;VALUE=DATE-TIME:20140330T030000
TZNAME:CEST
TZOFFSETFROM:+0100
TZOFFSETTO:+0200
END:DAYLIGHT
END:VTIMEZONE
END:VCALENDAR
