BEGIN:VCALENDAR
VERSION:2.0
PRODID:-//Plone.org//NONSGML plone.app.event//EN
X-WR-TIMEZONE:Europe/Madrid
BEGIN:VEVENT
SUMMARY:Trobem-nos per celebrar els 45 anys del Puig Castellar
DTSTART;TZID=Europe/Madrid;VALUE=DATE-TIME:20140530T223000
DTEND;TZID=Europe/Madrid;VALUE=DATE-TIME:20140531T010000
DTSTAMP;VALUE=DATE-TIME:20260421T135246Z
UID:b842594f572d4167b30a3eaa021ec987@192.168.0.130:8080
CREATED;VALUE=DATE-TIME:20200325T154520Z
LAST-MODIFIED;VALUE=DATE-TIME:20200325T154520Z
LOCATION:Institut Puig Castellar
URL:https://elpuig.xeill.net/el-centre/noticies/2013-2014/trobem-nos-per-c
 elebrar-els-45-anys-del-puig-castellar
END:VEVENT
BEGIN:VTIMEZONE
TZID:Europe/Madrid
X-LIC-LOCATION:Europe/Madrid
BEGIN:DAYLIGHT
DTSTART;VALUE=DATE-TIME:20140330T030000
TZNAME:CEST
TZOFFSETFROM:+0100
TZOFFSETTO:+0200
END:DAYLIGHT
END:VTIMEZONE
END:VCALENDAR
