BEGIN:VCALENDAR
VERSION:2.0
PRODID:-//Plone.org//NONSGML plone.app.event//EN
X-WR-TIMEZONE:Europe/Madrid
BEGIN:VEVENT
SUMMARY:El conflicte d'Ucraïna. Conferència a càrrec de Rafael Poch de 
 Feliu
DTSTART;TZID=Europe/Madrid;VALUE=DATE-TIME:20141114T210000
DTEND;TZID=Europe/Madrid;VALUE=DATE-TIME:20141114T220000
DTSTAMP;VALUE=DATE-TIME:20260419T232910Z
UID:95c7bb4d542544119034032615257194@192.168.0.130:8080
CREATED;VALUE=DATE-TIME:20200325T154814Z
LAST-MODIFIED;VALUE=DATE-TIME:20200325T154815Z
LOCATION:Saló d'actes Institut Puig Castellar
URL:https://elpuig.xeill.net/el-centre/noticies/2014-2015/rafael-poch/el-c
 onflicte-ducraina
END:VEVENT
BEGIN:VTIMEZONE
TZID:Europe/Madrid
X-LIC-LOCATION:Europe/Madrid
BEGIN:STANDARD
DTSTART;VALUE=DATE-TIME:20141026T020000
TZNAME:CET
TZOFFSETFROM:+0200
TZOFFSETTO:+0100
END:STANDARD
END:VTIMEZONE
END:VCALENDAR
