BEGIN:VCALENDAR
VERSION:2.0
PRODID:-//Plone.org//NONSGML plone.app.event//EN
X-WR-TIMEZONE:Europe/Madrid
BEGIN:VEVENT
SUMMARY:Estreno de las suites nº 1 y nº 2 de Jesús Villagrà
DTSTART;TZID=Europe/Madrid;VALUE=DATE-TIME:20160917T003000
DTEND;TZID=Europe/Madrid;VALUE=DATE-TIME:20160917T013000
DTSTAMP;VALUE=DATE-TIME:20260421T150449Z
UID:672de1bd4ea7460f9b38a9fb9491c0cb@192.168.0.130:8080
CREATED;VALUE=DATE-TIME:20200325T155248Z
LAST-MODIFIED;VALUE=DATE-TIME:20200325T155249Z
LOCATION:Auditorio de la Escuela Municipal de Música Can Roig i Torres
URL:https://elpuig.xeill.net/el-centre/noticies/2016-2017/estreno-de-las-s
 uites-no-1-y-no-2-de-jesus-villagra
END:VEVENT
BEGIN:VTIMEZONE
TZID:Europe/Madrid
X-LIC-LOCATION:Europe/Madrid
BEGIN:DAYLIGHT
DTSTART;VALUE=DATE-TIME:20160327T030000
TZNAME:CEST
TZOFFSETFROM:+0100
TZOFFSETTO:+0200
END:DAYLIGHT
END:VTIMEZONE
END:VCALENDAR
