BEGIN:VCALENDAR
VERSION:2.0
PRODID:-//Plone.org//NONSGML plone.app.event//EN
X-WR-TIMEZONE:Europe/Madrid
BEGIN:VEVENT
SUMMARY:PROGRAMA DEL DIA 27 D'OCTUBRE
DTSTART;TZID=Europe/Madrid;VALUE=DATE-TIME:20181027T210000
DTEND;TZID=Europe/Madrid;VALUE=DATE-TIME:20181028T010000
DTSTAMP;VALUE=DATE-TIME:20260421T123939Z
UID:d889f3fbedd34be8b66845e545315688@192.168.0.130:8080
CREATED;VALUE=DATE-TIME:20200325T171620Z
LAST-MODIFIED;VALUE=DATE-TIME:20200325T171621Z
URL:https://elpuig.xeill.net/el-centre/noticies/2018-2019/programa-del-dia
 -27-doctubre/index_html
END:VEVENT
BEGIN:VTIMEZONE
TZID:Europe/Madrid
X-LIC-LOCATION:Europe/Madrid
BEGIN:DAYLIGHT
DTSTART;VALUE=DATE-TIME:20180325T030000
TZNAME:CEST
TZOFFSETFROM:+0100
TZOFFSETTO:+0200
END:DAYLIGHT
END:VTIMEZONE
END:VCALENDAR
